BEGIN:VCALENDAR
VERSION:2.0
PRODID:-//AKMG Canada - ECPv6.15.20//NONSGML v1.0//EN
CALSCALE:GREGORIAN
METHOD:PUBLISH
X-WR-CALNAME:AKMG Canada
X-ORIGINAL-URL:https://www.akmgcanada.com
X-WR-CALDESC:Events for AKMG Canada
REFRESH-INTERVAL;VALUE=DURATION:PT1H
X-Robots-Tag:noindex
X-PUBLISHED-TTL:PT1H
BEGIN:VTIMEZONE
TZID:America/Toronto
BEGIN:DAYLIGHT
TZOFFSETFROM:-0500
TZOFFSETTO:-0400
TZNAME:EDT
DTSTART:20140309T070000
END:DAYLIGHT
BEGIN:STANDARD
TZOFFSETFROM:-0400
TZOFFSETTO:-0500
TZNAME:EST
DTSTART:20141102T060000
END:STANDARD
BEGIN:DAYLIGHT
TZOFFSETFROM:-0500
TZOFFSETTO:-0400
TZNAME:EDT
DTSTART:20150308T070000
END:DAYLIGHT
BEGIN:STANDARD
TZOFFSETFROM:-0400
TZOFFSETTO:-0500
TZNAME:EST
DTSTART:20151101T060000
END:STANDARD
BEGIN:DAYLIGHT
TZOFFSETFROM:-0500
TZOFFSETTO:-0400
TZNAME:EDT
DTSTART:20160313T070000
END:DAYLIGHT
BEGIN:STANDARD
TZOFFSETFROM:-0400
TZOFFSETTO:-0500
TZNAME:EST
DTSTART:20161106T060000
END:STANDARD
BEGIN:DAYLIGHT
TZOFFSETFROM:-0500
TZOFFSETTO:-0400
TZNAME:EDT
DTSTART:20170312T070000
END:DAYLIGHT
BEGIN:STANDARD
TZOFFSETFROM:-0400
TZOFFSETTO:-0500
TZNAME:EST
DTSTART:20171105T060000
END:STANDARD
BEGIN:DAYLIGHT
TZOFFSETFROM:-0500
TZOFFSETTO:-0400
TZNAME:EDT
DTSTART:20180311T070000
END:DAYLIGHT
BEGIN:STANDARD
TZOFFSETFROM:-0400
TZOFFSETTO:-0500
TZNAME:EST
DTSTART:20181104T060000
END:STANDARD
BEGIN:DAYLIGHT
TZOFFSETFROM:-0500
TZOFFSETTO:-0400
TZNAME:EDT
DTSTART:20190310T070000
END:DAYLIGHT
BEGIN:STANDARD
TZOFFSETFROM:-0400
TZOFFSETTO:-0500
TZNAME:EST
DTSTART:20191103T060000
END:STANDARD
BEGIN:DAYLIGHT
TZOFFSETFROM:-0500
TZOFFSETTO:-0400
TZNAME:EDT
DTSTART:20200308T070000
END:DAYLIGHT
BEGIN:STANDARD
TZOFFSETFROM:-0400
TZOFFSETTO:-0500
TZNAME:EST
DTSTART:20201101T060000
END:STANDARD
BEGIN:DAYLIGHT
TZOFFSETFROM:-0500
TZOFFSETTO:-0400
TZNAME:EDT
DTSTART:20210314T070000
END:DAYLIGHT
BEGIN:STANDARD
TZOFFSETFROM:-0400
TZOFFSETTO:-0500
TZNAME:EST
DTSTART:20211107T060000
END:STANDARD
BEGIN:DAYLIGHT
TZOFFSETFROM:-0500
TZOFFSETTO:-0400
TZNAME:EDT
DTSTART:20220313T070000
END:DAYLIGHT
BEGIN:STANDARD
TZOFFSETFROM:-0400
TZOFFSETTO:-0500
TZNAME:EST
DTSTART:20221106T060000
END:STANDARD
END:VTIMEZONE
BEGIN:VEVENT
DTSTART;VALUE=DATE:20210102
DTEND;VALUE=DATE:20210103
DTSTAMP:20260423T143515
CREATED:20210405T161439Z
LAST-MODIFIED:20210405T161439Z
UID:5674-1609545600-1609631999@www.akmgcanada.com
SUMMARY:AKMG Canada Annual Convention & Virtual General Body Meeting
DESCRIPTION:AKMG Canada Annual Convention & Virtual General Body  will be held virtually on January 2\, 2021
URL:https://www.akmgcanada.com/event/akmg-canada-annual-convention-virtual-general-body-meeting/
CATEGORIES:ANNUAL CONVENTION CANADA
END:VEVENT
BEGIN:VEVENT
DTSTART;TZID=America/Toronto:20180809T170000
DTEND;TZID=America/Toronto:20180811T233000
DTSTAMP:20260423T143515
CREATED:20170724T033937Z
LAST-MODIFIED:20180526T033519Z
UID:4165-1533834000-1534030200@www.akmgcanada.com
SUMMARY:AKMG Annual Convention 2018
DESCRIPTION:Set your eyes on Ottawa!\nAKMG Canada will be hosting the AKMG family from around the world in Ottawa in 2018. We look forward to a wonderful event filled with fun\, education\, sharing and connecting. In the coming months we will try to reach out to you directly or indirectly. If you could kindly fill in the contact form below and provide your thoughts on the upcoming event\, we would be grateful. As always all communications will be held in confidence and unless specifically mentioned\, you will not be identified in any manner in a public forum. \n  \n\n \nClick on the event specific link above to reserve your rooms now at great rates. The King and Double-Queen rooms are available for USD 129.00 (CAD 162.00) per night. When you reserve include the number of adults in the room. If there are more than 2 occupants above 18 years of age\, there is a $25.00 CAD charge extra per person. Children 18 and below stay free. (PLEASE COUNT ONLY ADULTS ABOVE 18 WHEN YOU BOOK ROOMS) \nUnfortunately multiple rooms cannot be booked together. We apologize for the inconvenience. If you are booking more than 1 room\, please repeat the process. \nOther options are also provided in the link if you would like Golf-View\, Balcony or Suite rooms. Maximum occupancy is 4 per room. These rates have been specially negotiated with the hotel for AKMG registrants and includes 3 days in the shoulder period of the meeting. \n\nComplimentary high-speed internet in guest rooms\nComplimentary access to Flex Fitness Studio\, featuring extensive fitness equipment\, indoor and seasonal outdoor\nsaltwater pools\, whirlpools and dry saunas\nComplimentary access to Zone 525 Games Room\nComplimentary self parking in heated underground lot (Valet is additional $19.95 CAD per day)\n\nAKMG CME AGENDA NOW AVAILABLE\n  \nHOW TO REACH OTTAWA \nAir Canada Direct Ottawa Route Map. Please check other airlines if your city is not connected directly by Air Canada. \n \n  \nOttawa is the capital city of Canada and is one of the most beautiful places to visit in Canada. It has been ranked among the top cities in the world for quality of life\, as a global city and as a student friendly city. There are several tourist attractions in and around Ottawa. The convention venue itself is a 4-Diamond ranked resort set on a golf course. The spectacular city of Montreal and the  world famous 1000 islands cruise are only a short ride away. Ottawa is connected by direct flights to most major US and Canadian cities. Apart from the generic travel booking sites\, do check Air Canada\, West Jet and Porter Airlines websites as well while planning your trip. If you wish to include Toronto and Niagara falls in your plans\, Ottawa is 4 hours by road from Toronto. The special AKMG AIR CANADA DISCOUNT CODE WILL BE AVAILABLE ON THE CONFIRMATION PAGE AFTER REGISTRATION. \nPlease watch this introductory video on the Ottawa Convention. Mark Your Calendars! More to come. \n \n\nSPONSORSHIP OPPORTUNITIES\nAKMG Canada recognizes the importance and contributions of our stakeholders and supporters. You are invited to write to president@akmgcanada.com to explore partnership opportunities related to the AKMG 2018 CME and Convention.\n \n \n  \nAKMG Photography Competition\n  \n \nENTER THE PHOTOGRAPHY CONTEST\nGreat Prizes to be Won\n \n  \nMORE DETAILS ON THE PROGRAM
URL:https://www.akmgcanada.com/event/akmg-annual-convention-2018/
LOCATION:Brookstreet Hotel\, 525 Legget Dr\, Kanata\, Ontario\, K2K2W2\, Canada
END:VEVENT
BEGIN:VEVENT
DTSTART;TZID=America/Toronto:20170513T093000
DTEND;TZID=America/Toronto:20170513T153000
DTSTAMP:20260423T143515
CREATED:20170220T201903Z
LAST-MODIFIED:20170430T231024Z
UID:3993-1494667800-1494689400@www.akmgcanada.com
SUMMARY:AKMG Canada Annual Convention 2017
DESCRIPTION:AKMG Canada Annual Convention 2017 will be held in the Woodbine Banquet Hall on Saturday\, May 13\, 2017. \n \nWe are delighted to invite you to our 2017 annual convention. An exciting day of events has been lined up for you. \n \nSet in the beautiful Woodbine Hall in Toronto\, this event will be a wonderful opportunity to meet and interact with the Who’s Who of AKMG Canada. Following a welcome reception we will have CME activities with our faculty members. \n  \n The CME event will be followed by a multi-course lunch and entertainment. One of the major outcomes that we hope to realize is the generation of new collaborations. There will be tables set up to encourage members interested in taking their current activities to the next level through effective and purposeful collaborations. \nDr. BIJU MATHEW\, MD\, FRCPC\n \nDr. Biju Mathew\, MD\, FRCPC\, Clinical Associate Professor in UBC and Consultant Psychiatrist will speak on his experiences writing a best selling book “Super 30”. Super 30 is an organization started by Anand Kumar of Bihar\, India. He has remained committed to his mission of imparting quality education to the economically deprived people. You can see more about super 30 in the video below. \n\n\n\nSUSAN R. GEORGE\, MD\, FRCP(C)\, FACP\n  \n\n\n\n\nDr. Susan George earned her M.D. from the University of Toronto and completed her residency training in Internal Medicine followed by subspecialty training in Endocrinology & Metabolism. She joined the U of T faculty in 1984 and is currently a Professor in the Faculty of Medicine\, in the Departments of Medicine and Pharmacology\, a Scientist at the Centre for Addiction and Mental Health and a clinical endocrinologist at Toronto General Hospital. \nSince 2002 she has held the Canada Research Chair in Molecular Neuroscience. \nDr. George will be speaking on the topic: “From porcine insulin to SGLT2 inhibitors: we have come a long way in the management of diabetes mellitus” \n\n\nWe encourage you to bring your family and guests. Lets get to know each other. \nCost: CAD 50.00 \nChildren 5-10 years: CAD 20.00 \nChildren < 5 years: Free \n \nMain Sponsor\n \n \n Please Register\n\n← Back Thank you for your response. ✨\n\n\n					\n						\n							\n							\n						\n						\n						\n						\n						\n							\n								\n									\n										\n										\n									\n									\n										\n										\n									\n								\n							\n						\n						\n							\n								\n									\n									\n										\n									\n									\n									\n								\n							\n						\n					\n				\n\n\n\nName(required)\n\n \n			\n				\n					\n						\n						\n						\n					\n				\n				\n			 \n	\n\n\nNumber of physicians in party(required)\n	\n		Select an option\n		1\n		2\n		3\n		4\n	\n\n\n			\n				\n					\n						\n						\n						\n					\n				\n				\n				\n\n\nFor Name Badge: Medical School and Year of Graduation (Include all physicians registering)(required)\n\n \n			\n				\n					\n						\n						\n						\n					\n				\n				\n			\n	\n\n\nEmail(required)\n\n \n			\n				\n					\n						\n						\n						\n					\n				\n				\n			 \n	\n\n\nAre you attending?(required)\n Yes No\n			\n				\n					\n						\n						\n						\n					\n				\n				\n				\n\n\nNumber of adults(required)\n	\n		Select an option\n		1\n		2\n		3\n		4\n		>5\n	\n\n\n			\n				\n					\n						\n						\n						\n					\n				\n				\n				\n\n\nNumber of Children (>10 years)(required)\n	\n		Select an option\n		0\n		1\n		2\n		3\n		4\n		>4\n	\n\n\n			\n				\n					\n						\n						\n						\n					\n				\n				\n				\n\n\nNumber of Children (5-10 years)(required)\n	\n		Select an option\n		0\n		1\n		2\n		3\n		4\n		>4\n	\n\n\n			\n				\n					\n						\n						\n						\n					\n				\n				\n				\n\n\nComment / Food restrictions\n\n \n			\n				\n					\n						\n						\n						\n					\n				\n				\n			 \n	\n\n\nAre you or one of your family members interested in performing (song/dance/skit etc) during the cultural event?\n Yes No\n			\n				\n					\n						\n						\n						\n					\n				\n				\n				\n\n\nSuggest a topic for the CME program\n\n \n			\n				\n					\n						\n						\n						\n					\n				\n				\n			 \n	\n\n\nWhatsapp Group Membership: Please provide cell phone number\n\n \n			\n				\n					\n						\n						\n						\n					\n				\n				\n			 \n	\n	\n\n				\n					\n				\n						Submit		\n		\n		\n	 \nΔ \n \nYou can send money by interac email transfer to AKMGCanada@gmail.com (please use password: akmgcanada) \nAlternately\, you can send a cheque in favour of AKMG Canada to 119 Oxford Street\, Richmond Hill\, ON. L4C 4L6 \nPlease include membership fees of CAD 100.00 if you have not paid this year’s dues already. \nIf you prefer paying online via AKMGCanada’s secure paypal portal\, you can do so now below. Please read the instructions below. \nPay Now\nYou will complete your payment on AKMG Canada’s Secure Paypal Site. You can complete your payment either through your paypal account or with your credit card. You can continue shopping and add\, memebrship fees\, adult and child tickets. You can edit quantity on the paypal page and when you are ready proceed to payment. Thank you and see you at the next gala event. \n\n\n \n\n\n\nAnnual Membership\n\n\nSingle $100.00 CADCouple $150.00 CAD\n\n\n\n\n \n\n\n\n\n \n\n\n\nConvention\n\n\nAdult & Children >10 years $50.00 CADChild (5-10 yrs) $20.00 CAD\n\n\n\n\n\nVideo Tutorial on How to Pay Using AKMG Canada Paypal
URL:https://www.akmgcanada.com/event/akmg-canada-annual-convention-2017/
LOCATION:Woodbine Banquet Hall\, 30 Vice Regent Blvd\, Toronto\, Ontario\, M9W 7A4\, Canada
END:VEVENT
BEGIN:VEVENT
DTSTART;TZID=America/Toronto:20160930T120000
DTEND;TZID=America/Toronto:20161002T210000
DTSTAMP:20260423T143515
CREATED:20160131T142738Z
LAST-MODIFIED:20160205T031840Z
UID:3570-1475236800-1475442000@www.akmgcanada.com
SUMMARY:Agawa Canyon Fall Weekend Expedition
DESCRIPTION:Act Fast! Only Few Seats Left. \n  \nAKMG Canada will be doing a fall expedition to the Agawa Canyon to explore the mystical beauty of the Canadian Shield in brilliant fall colours. \nLeave Toronto by noon on Friday\, September 30\, 2016. (Group bus is being negotiated). \n2 nights stay in Sault Ste. Marie. \nTrain expedition on Saturday October 1\, 2016. \nReturn trip (two alternatives being discussed) \n\nSunday\, October 2\, 2016. Leave Sault Ste. Marie at 9.00am\, Reach Toronto by Sunday evening.\nSaturday\, Oct 1\, 2016. Leave Sautl Ste Marie at 5.00pm immediately after train trip. Reach Toronto on Saturday late night.\n\nSome of you are flying from out of the province. There are daily multiple Air Canada\, Porter and Bearskin Airlines flights from Sault Ste. Marie Airport. \nMonday: back to work as usual. \nPre-booking and Payment in Full are required to guarantee a spot due to the high demand for this program and limited seats available. \n\n \nThis mesmerizing experience will take you into a different world\, a world beyond words. Come enjoy the awesomeness and be enthralled by the stunning beauty of the Canadian North. \nThe Canadian Shield is the oldest Mountain range in the world and is more than 3.96 billion years old. The train will take us on a one-day wilderness adventure from Sault Ste Marie to the Agawa Canyon. Witness the hardwood forest en route  that turns yellow\, red\, purple and gold. \n  \n \n  \n 
URL:https://www.akmgcanada.com/event/agawa-canyon-fall-expedition/
LOCATION:Agawa Canyon Fall Expedition\, 129 Bay Street\, Sault Ste. Marie\, Ontario\, P6A 6Y2\, Canada
END:VEVENT
BEGIN:VEVENT
DTSTART;TZID=America/Toronto:20160515T100000
DTEND;TZID=America/Toronto:20160515T150000
DTSTAMP:20260423T143515
CREATED:20160313T033338Z
LAST-MODIFIED:20170302T041814Z
UID:3588-1463306400-1463324400@www.akmgcanada.com
SUMMARY:AKMG Canada Annual Convention 2016
DESCRIPTION:It is just days away. The mega event of AKMG Canada. \n \nOn behalf of AKMG Canada we are delighted to invite you to our inaugural convention. Be there to witness the creation of history. Let us make this event one of the most memorable events as physicians and dentists of Kerala ancestry in Canada. \n \n  \nSet in the beautiful Payal Banquet Hall in Misissauga\, this event will be a wonderful opportunity to meet and interact with the Who’s Who of AKMG Canada. Following a welcome reception we will have CME activities with our faculty members led by Dr. Salim Yusuf\, DPhil\, MRCP\, OC. \n \nDr. Salim Yusuf is an internationally renowned cardiologist and epidemiologist whose work over 35 years has substantially influenced prevention and treatment of cardiovascular disease. His large-scale studies involving several hundreds of thousands of individuals in dozens of countries have changed the way some of the world’s most deadly health conditions are prevented\, treated and managed. He is the Heart and Stroke Foundation of Ontario / Marion W. Burke Chair in Cardiovascular Disease in McMaster University\, Hamilton\, Ontario. \nDr. Yusuf is  professor of medicine of the Michael G. DeGroote School of Medicine at McMaster University and director of the Population Health Research Institute (PHRI). He was appointed to the Order of Canada in 2013 and is a laureate of the Canadian Medical Hall of Fame. \n \n The CME event will be followed by a multi-course lunch and entertainment. One of the major outcomes that we hope to realize is the generation of new collaborations. There will be tables set up to encourage members interested in taking their current activities to the next level through effective and purposeful collaborations. \nWe encourage you to bring your family and guests. Lets get to know each other. \nCost: CAD 25.00 \nChildren 5-10 years: CAD 10.00 \nChildren < 5 years: Free \n\nPlease Register\n\n← Back Thank you for your response. ✨\n\n\n					\n						\n							\n							\n						\n						\n						\n						\n						\n							\n								\n									\n										\n										\n									\n									\n										\n										\n									\n								\n							\n						\n						\n							\n								\n									\n									\n										\n									\n									\n									\n								\n							\n						\n					\n				\n\n\n\nName(required)\n\n \n			\n				\n					\n						\n						\n						\n					\n				\n				\n			 \n	\n\n\nNumber of physicians in party(required)\n	\n		Select an option\n		1\n		2\n		3\n		4\n	\n\n\n			\n				\n					\n						\n						\n						\n					\n				\n				\n				\n\n\nFor Name Badge: Medical School and Year of Graduation (Include all physicians registering)(required)\n\n \n			\n				\n					\n						\n						\n						\n					\n				\n				\n			\n	\n\n\nEmail(required)\n\n \n			\n				\n					\n						\n						\n						\n					\n				\n				\n			 \n	\n\n\nAre you attending?(required)\n Yes No\n			\n				\n					\n						\n						\n						\n					\n				\n				\n				\n\n\nNumber of adults(required)\n	\n		Select an option\n		1\n		2\n		3\n		4\n		>5\n	\n\n\n			\n				\n					\n						\n						\n						\n					\n				\n				\n				\n\n\nNumber of Children (>10 years)(required)\n	\n		Select an option\n		0\n		1\n		2\n		3\n		4\n		>4\n	\n\n\n			\n				\n					\n						\n						\n						\n					\n				\n				\n				\n\n\nNumber of Children (5-10 years)(required)\n	\n		Select an option\n		0\n		1\n		2\n		3\n		4\n		>4\n	\n\n\n			\n				\n					\n						\n						\n						\n					\n				\n				\n				\n\n\nComment / Food restrictions\n\n \n			\n				\n					\n						\n						\n						\n					\n				\n				\n			 \n	\n\n\nAre you or one of your family members interested in performing (song/dance/skit etc) during the cultural event?\n Yes No\n			\n				\n					\n						\n						\n						\n					\n				\n				\n				\n\n\nSuggest a topic for the CME program\n\n \n			\n				\n					\n						\n						\n						\n					\n				\n				\n			 \n	\n	\n\n				\n					\n				\n						Submit		\n		\n		\n	 \nΔ \n \nYou can send a cheque in favour of AKMG Canada to 119 Oxford Street\, Richmond Hill\, ON. L4C 4L6 \nPlease include membership fees of CAD 50.00 if you have not paid this year’s dues already. \nConvention Chairs\nDr. Mariamma Joseph\nDr. Santhosh Paikatt\nOrganizing Secretary\nDr. Nisha Nigil Haroon\nCultural Committee Chair\nDr. Bhavani Nair\nCultural Committee Vice-Chairs\nDr. Archana Abhayambika\nDr. Radhika Nair\nPlatinum Sponsors
URL:https://www.akmgcanada.com/event/akmg-canada-annual-convention/
LOCATION:Payal Banquet Hall\, 3410 Semenyk Court\, Mississauga\, Ontario\, L5C 4P8\, Canada
END:VEVENT
BEGIN:VEVENT
DTSTART;TZID=America/Toronto:20160116T180000
DTEND;TZID=America/Toronto:20160116T220000
DTSTAMP:20260423T143515
CREATED:20160106T160713Z
LAST-MODIFIED:20160111T175910Z
UID:3490-1452967200-1452981600@www.akmgcanada.com
SUMMARY:AKMG Canada Toronto Area Meet
DESCRIPTION:Come and enjoy an evening of fun\, music and sharing. \nWelcome and Reception: 6.00pm \n7.00pm: Mentorship and Scholarship in a career in Academic Respiratory Medicine. Dr. Parameswaran Nair\, MD\, PhD\, FRCP\, FRCPC. \n7.20 pm: Managing physician stress and preventing burnout. Dr. Shabbir Amanullah. MBBS\, DPM\, MD\, MRCPsych\, CCT(Geriatric Psychiatry)\, FRCPC. \n7.45pm: Dinner \n9.00pm: Entertainment \n\nDr. Nair is Professor of Medicine in the Division of Respirology at McMaster University and a Staff Respirologist at the Firestone Institute for Respiratory Health at St. Joseph’s Healthcare Hamilton where he looks after patients with complex airway diseases\, severe asthma and eosinophilic lung disorders. His laboratory\, funded by federal and provincial agencies\, the Canada Research Chair program\, AllerGen National Centre of Excellence\, and Industry partners\, characterizes the types of bronchitis in airway diseases using biomarkers in sputum\, identifies mechanisms of persistent bronchitis\, and explores novel targeted therapies of bronchitis using small molecules and biologics. \n\nDr. Amanullah is Asst. Professor of Psychiatry and Consultant Psychiatrist at the Woodstock General Hospital. He is internationally recognized and has conducted several group sessions for physician associations.
URL:https://www.akmgcanada.com/event/akmg-canada-toronto-area-meet/
LOCATION:15 Cowley Avenue\, 15 Cowley Avenue\, Toronto\, M9B 2C9
ORGANIZER;CN="Nigil Haroon":MAILTO:nigilharoon@gmail.com
END:VEVENT
BEGIN:VEVENT
DTSTART;TZID=America/Toronto:20151128T180000
DTEND;TZID=America/Toronto:20151128T210000
DTSTAMP:20260423T143515
CREATED:20151128T004446Z
LAST-MODIFIED:20160517T003959Z
UID:3363-1448733600-1448744400@www.akmgcanada.com
SUMMARY:AKMG Canada meetup Nov. 28th 2015!
DESCRIPTION:Come to the Gate of India restaurant in Hamilton for some tasty food\, networking\, and discussion on the direction of AKMG Canada.
URL:https://www.akmgcanada.com/event/akmg-canada-meetup-nov-28th-2015/
LOCATION:Gate of India restaurant\, 201 James Stret North\, Hamilton\, Ontario\, L8R 2L2\, Canada
ORGANIZER;CN="Nigil Haroon":MAILTO:nigilharoon@gmail.com
END:VEVENT
END:VCALENDAR